BEGIN:VCALENDAR
VERSION:2.0
PRODID:-//petalliesaz.org//NONSGML kigkonsult.se iCalcreator 2.30.10//
CALSCALE:GREGORIAN
METHOD:PUBLISH
UID:a0e7af5e-22c4-450b-83a3-a06f74348565
X-WR-CALDESC:
X-WR-RELCALID:7abd23be125f24664d1fb35f974ce5e8
X-WR-TIMEZONE:America/Phoenix
BEGIN:VTIMEZONE
TZID:America/Phoenix
BEGIN:STANDARD
TZNAME:MST
DTSTART:20270729T070000
TZOFFSETFROM:+0000
TZOFFSETTO:-0700
END:STANDARD
END:VTIMEZONE
BEGIN:VEVENT
UID:402f3d2e-8537-4e07-9c67-3053d638af9b
DTSTAMP:20260424T175526Z
DESCRIPTION:
DTSTART;TZID=America/Phoenix:20290429T110000
DTEND;TZID=America/Phoenix:20290429T160000
LOCATION:1321 N. 16th St. \, Show Low\, AZ 85901 US
SUMMARY:Shelter Closed
END:VEVENT
END:VCALENDAR
