BEGIN:VCALENDAR
VERSION:2.0
PRODID:-//petalliesaz.org//NONSGML kigkonsult.se iCalcreator 2.30.10//
CALSCALE:GREGORIAN
METHOD:PUBLISH
UID:0852cf37-7af4-4bb1-8585-d4a0c186f78a
X-WR-CALDESC:
X-WR-RELCALID:140895a921f06e52b41773f0108321d7
X-WR-TIMEZONE:America/Phoenix
BEGIN:VTIMEZONE
TZID:America/Phoenix
BEGIN:STANDARD
TZNAME:MST
DTSTART:20270722T070000
TZOFFSETFROM:+0000
TZOFFSETTO:-0700
END:STANDARD
END:VTIMEZONE
BEGIN:VEVENT
UID:0396f200-f53a-4800-8925-5134e1276da4
DTSTAMP:20260424T173745Z
DESCRIPTION:
DTSTART;TZID=America/Phoenix:20290422T110000
DTEND;TZID=America/Phoenix:20290422T160000
LOCATION:1321 N. 16th St. \, Show Low\, AZ 85901 US
SUMMARY:Shelter Closed
END:VEVENT
END:VCALENDAR
