BEGIN:VCALENDAR
VERSION:2.0
PRODID:-//petalliesaz.org//NONSGML kigkonsult.se iCalcreator 2.30.10//
CALSCALE:GREGORIAN
METHOD:PUBLISH
UID:95584b2b-cb14-41a0-bed5-7cbacf1a3008
X-WR-CALDESC:
X-WR-RELCALID:d34f24c5a1d2ba0342a51d4f1e0c18e2
X-WR-TIMEZONE:America/Phoenix
BEGIN:VTIMEZONE
TZID:America/Phoenix
BEGIN:STANDARD
TZNAME:MST
DTSTART:20270715T070000
TZOFFSETFROM:+0000
TZOFFSETTO:-0700
END:STANDARD
END:VTIMEZONE
BEGIN:VEVENT
UID:fa996d42-78b1-4dac-a88b-5c0f20636aea
DTSTAMP:20260424T175141Z
DESCRIPTION:
DTSTART;TZID=America/Phoenix:20290415T110000
DTEND;TZID=America/Phoenix:20290415T160000
LOCATION:1321 N. 16th St. \, Show Low\, AZ 85901 US
SUMMARY:Shelter Closed
END:VEVENT
END:VCALENDAR
