BEGIN:VCALENDAR
VERSION:2.0
PRODID:-//petalliesaz.org//NONSGML kigkonsult.se iCalcreator 2.30.10//
CALSCALE:GREGORIAN
METHOD:PUBLISH
UID:f3efff1e-a093-4bd1-b0e2-4e9b24f52608
X-WR-CALDESC:
X-WR-RELCALID:3676ef98c0be118f13b52e21d77a4ba3
X-WR-TIMEZONE:America/Phoenix
BEGIN:VTIMEZONE
TZID:America/Phoenix
BEGIN:STANDARD
TZNAME:MST
DTSTART:20270708T070000
TZOFFSETFROM:+0000
TZOFFSETTO:-0700
END:STANDARD
END:VTIMEZONE
BEGIN:VEVENT
UID:a8fa668e-0c65-4f18-9c7e-8a0d604f096d
DTSTAMP:20260424T180712Z
DESCRIPTION:
DTSTART;TZID=America/Phoenix:20290408T110000
DTEND;TZID=America/Phoenix:20290408T160000
LOCATION:1321 N. 16th St. \, Show Low\, AZ 85901 US
SUMMARY:Shelter Closed
END:VEVENT
END:VCALENDAR
