BEGIN:VCALENDAR
VERSION:2.0
PRODID:-//petalliesaz.org//NONSGML kigkonsult.se iCalcreator 2.30.10//
CALSCALE:GREGORIAN
METHOD:PUBLISH
UID:54d44ccb-76ab-4d66-937f-8e57439a349a
X-WR-CALDESC:
X-WR-RELCALID:4f944b664df45ee6f775b5bfadfcfbe3
X-WR-TIMEZONE:America/Phoenix
BEGIN:VTIMEZONE
TZID:America/Phoenix
BEGIN:STANDARD
TZNAME:MST
DTSTART:20270701T070000
TZOFFSETFROM:+0000
TZOFFSETTO:-0700
END:STANDARD
END:VTIMEZONE
BEGIN:VEVENT
UID:a7802ee5-b679-4186-b047-8325740346a8
DTSTAMP:20260424T181116Z
DESCRIPTION:
DTSTART;TZID=America/Phoenix:20290401T110000
DTEND;TZID=America/Phoenix:20290401T160000
LOCATION:1321 N. 16th St. \, Show Low\, AZ 85901 US
SUMMARY:Shelter Closed
END:VEVENT
END:VCALENDAR
