BEGIN:VCALENDAR
VERSION:2.0
PRODID:-//petalliesaz.org//NONSGML kigkonsult.se iCalcreator 2.30.10//
CALSCALE:GREGORIAN
METHOD:PUBLISH
UID:9b9f3b12-f33e-4a51-b2dc-5e222b21ae85
X-WR-CALDESC:
X-WR-RELCALID:25b7e0d639c169cbc4ba4a402013ead2
X-WR-TIMEZONE:America/Phoenix
BEGIN:VTIMEZONE
TZID:America/Phoenix
BEGIN:STANDARD
TZNAME:MST
DTSTART:20270624T070000
TZOFFSETFROM:+0000
TZOFFSETTO:-0700
END:STANDARD
END:VTIMEZONE
BEGIN:VEVENT
UID:fa2a3049-1acd-4b58-a13c-c1d06d89883f
DTSTAMP:20260424T175614Z
DESCRIPTION:
DTSTART;TZID=America/Phoenix:20290325T110000
DTEND;TZID=America/Phoenix:20290325T160000
LOCATION:1321 N. 16th St. \, Show Low\, AZ 85901 US
SUMMARY:Shelter Closed
END:VEVENT
END:VCALENDAR
