BEGIN:VCALENDAR
VERSION:2.0
PRODID:-//petalliesaz.org//NONSGML kigkonsult.se iCalcreator 2.30.10//
CALSCALE:GREGORIAN
METHOD:PUBLISH
UID:15261c5d-ef1c-43f8-9b0a-313655d3dcb5
X-WR-CALDESC:
X-WR-RELCALID:00c50894caaa7615fbc9947823024340
X-WR-TIMEZONE:America/Phoenix
BEGIN:VTIMEZONE
TZID:America/Phoenix
BEGIN:STANDARD
TZNAME:MST
DTSTART:20270617T070000
TZOFFSETFROM:+0000
TZOFFSETTO:-0700
END:STANDARD
END:VTIMEZONE
BEGIN:VEVENT
UID:8c0dc4a0-ae57-40a3-b32b-5601444ec24f
DTSTAMP:20260424T142203Z
DESCRIPTION:
DTSTART;TZID=America/Phoenix:20290318T110000
DTEND;TZID=America/Phoenix:20290318T160000
LOCATION:1321 N. 16th St. \, Show Low\, AZ 85901 US
SUMMARY:Shelter Closed
END:VEVENT
END:VCALENDAR
