BEGIN:VCALENDAR
VERSION:2.0
PRODID:-//petalliesaz.org//NONSGML kigkonsult.se iCalcreator 2.30.10//
CALSCALE:GREGORIAN
METHOD:PUBLISH
UID:87b84c35-4778-48b9-9e2d-15eed909b493
X-WR-CALDESC:
X-WR-RELCALID:0b74edf74c4b9c359ae25c14566ee861
X-WR-TIMEZONE:America/Phoenix
BEGIN:VTIMEZONE
TZID:America/Phoenix
BEGIN:STANDARD
TZNAME:MST
DTSTART:20270610T070000
TZOFFSETFROM:+0000
TZOFFSETTO:-0700
END:STANDARD
END:VTIMEZONE
BEGIN:VEVENT
UID:1f66cad7-c380-427c-b55e-e228b7a8a621
DTSTAMP:20260424T155854Z
DESCRIPTION:
DTSTART;TZID=America/Phoenix:20290311T110000
DTEND;TZID=America/Phoenix:20290311T160000
LOCATION:1321 N. 16th St. \, Show Low\, AZ 85901 US
SUMMARY:Shelter Closed
END:VEVENT
END:VCALENDAR
