BEGIN:VCALENDAR
VERSION:2.0
PRODID:-//petalliesaz.org//NONSGML kigkonsult.se iCalcreator 2.30.10//
CALSCALE:GREGORIAN
METHOD:PUBLISH
UID:8c8b6186-8f77-4741-b8c6-84e453be94f7
X-WR-CALDESC:
X-WR-RELCALID:79c3dbd06f9846da0efa7e2a74d1c0b5
X-WR-TIMEZONE:America/Phoenix
BEGIN:VTIMEZONE
TZID:America/Phoenix
BEGIN:STANDARD
TZNAME:MST
DTSTART:20270603T070000
TZOFFSETFROM:+0000
TZOFFSETTO:-0700
END:STANDARD
END:VTIMEZONE
BEGIN:VEVENT
UID:9db1fd5e-3626-4358-8f11-0f861fecb55a
DTSTAMP:20260424T155434Z
DESCRIPTION:
DTSTART;TZID=America/Phoenix:20290304T110000
DTEND;TZID=America/Phoenix:20290304T160000
LOCATION:1321 N. 16th St. \, Show Low\, AZ 85901 US
SUMMARY:Shelter Closed
END:VEVENT
END:VCALENDAR
