BEGIN:VCALENDAR
VERSION:2.0
PRODID:-//petalliesaz.org//NONSGML kigkonsult.se iCalcreator 2.30.10//
CALSCALE:GREGORIAN
METHOD:PUBLISH
UID:6a7e798a-ee86-4483-a3f8-7963bd2a4378
X-WR-CALDESC:
X-WR-RELCALID:43f37ab25ad736a7225f43f12eddac9a
X-WR-TIMEZONE:America/Phoenix
BEGIN:VTIMEZONE
TZID:America/Phoenix
BEGIN:STANDARD
TZNAME:MST
DTSTART:20270527T070000
TZOFFSETFROM:+0000
TZOFFSETTO:-0700
END:STANDARD
END:VTIMEZONE
BEGIN:VEVENT
UID:48bd7d46-f0ea-400c-9bbe-97dcf02b4cea
DTSTAMP:20260424T114521Z
DESCRIPTION:
DTSTART;TZID=America/Phoenix:20290225T110000
DTEND;TZID=America/Phoenix:20290225T160000
LOCATION:1321 N. 16th St. \, Show Low\, AZ 85901 US
SUMMARY:Shelter Closed
END:VEVENT
END:VCALENDAR
