BEGIN:VCALENDAR
VERSION:2.0
PRODID:-//petalliesaz.org//NONSGML kigkonsult.se iCalcreator 2.30.10//
CALSCALE:GREGORIAN
METHOD:PUBLISH
UID:f8562ad8-6916-45e2-ad33-66be799f4938
X-WR-CALDESC:
X-WR-RELCALID:64823bd7776661f40c18c4f36e2e1aab
X-WR-TIMEZONE:America/Phoenix
BEGIN:VTIMEZONE
TZID:America/Phoenix
BEGIN:STANDARD
TZNAME:MST
DTSTART:20270513T070000
TZOFFSETFROM:+0000
TZOFFSETTO:-0700
END:STANDARD
END:VTIMEZONE
BEGIN:VEVENT
UID:45ab8e57-040f-422b-b4b2-9d73b7103547
DTSTAMP:20260424T133847Z
DESCRIPTION:
DTSTART;TZID=America/Phoenix:20290211T110000
DTEND;TZID=America/Phoenix:20290211T160000
LOCATION:1321 N. 16th St. \, Show Low\, AZ 85901 US
SUMMARY:Shelter Closed
END:VEVENT
END:VCALENDAR
