BEGIN:VCALENDAR
VERSION:2.0
PRODID:-//petalliesaz.org//NONSGML kigkonsult.se iCalcreator 2.30.10//
CALSCALE:GREGORIAN
METHOD:PUBLISH
UID:a4ff3ee0-3890-43e6-b69d-b33dee7a8248
X-WR-CALDESC:
X-WR-RELCALID:df0721c3e76a3fac044d91ed7f9a1cdf
X-WR-TIMEZONE:America/Phoenix
BEGIN:VTIMEZONE
TZID:America/Phoenix
BEGIN:STANDARD
TZNAME:MST
DTSTART:20270506T070000
TZOFFSETFROM:+0000
TZOFFSETTO:-0700
END:STANDARD
END:VTIMEZONE
BEGIN:VEVENT
UID:80c87e0b-bb7e-406c-8e88-74276f407f7a
DTSTAMP:20260424T134258Z
DESCRIPTION:
DTSTART;TZID=America/Phoenix:20290204T110000
DTEND;TZID=America/Phoenix:20290204T160000
LOCATION:1321 N. 16th St. \, Show Low\, AZ 85901 US
SUMMARY:Shelter Closed
END:VEVENT
END:VCALENDAR
