BEGIN:VCALENDAR
VERSION:2.0
PRODID:-//petalliesaz.org//NONSGML kigkonsult.se iCalcreator 2.30.10//
CALSCALE:GREGORIAN
METHOD:PUBLISH
UID:ee643d61-3927-4a66-9748-b5f627fd8c8e
X-WR-CALDESC:
X-WR-RELCALID:abc16df8fda6b42c90a79da15862b479
X-WR-TIMEZONE:America/Phoenix
BEGIN:VTIMEZONE
TZID:America/Phoenix
BEGIN:STANDARD
TZNAME:MST
DTSTART:20270429T070000
TZOFFSETFROM:+0000
TZOFFSETTO:-0700
END:STANDARD
END:VTIMEZONE
BEGIN:VEVENT
UID:c8804ee8-3eef-4029-90cf-555d32bd6848
DTSTAMP:20260424T102709Z
DESCRIPTION:
DTSTART;TZID=America/Phoenix:20290128T110000
DTEND;TZID=America/Phoenix:20290128T160000
LOCATION:1321 N. 16th St. \, Show Low\, AZ 85901 US
SUMMARY:Shelter Closed
END:VEVENT
END:VCALENDAR
