BEGIN:VCALENDAR
VERSION:2.0
PRODID:-//petalliesaz.org//NONSGML kigkonsult.se iCalcreator 2.30.10//
CALSCALE:GREGORIAN
METHOD:PUBLISH
UID:38766c6f-e4ae-48e2-890b-5e0734303861
X-WR-CALDESC:
X-WR-RELCALID:a5d9a67ca5086328db6d24913db304dc
X-WR-TIMEZONE:America/Phoenix
BEGIN:VTIMEZONE
TZID:America/Phoenix
BEGIN:STANDARD
TZNAME:MST
DTSTART:20270422T070000
TZOFFSETFROM:+0000
TZOFFSETTO:-0700
END:STANDARD
END:VTIMEZONE
BEGIN:VEVENT
UID:43ec1aa2-87ea-46ba-94d4-1e2f6fa32605
DTSTAMP:20260424T084249Z
DESCRIPTION:
DTSTART;TZID=America/Phoenix:20290121T110000
DTEND;TZID=America/Phoenix:20290121T160000
LOCATION:1321 N. 16th St. \, Show Low\, AZ 85901 US
SUMMARY:Shelter Closed
END:VEVENT
END:VCALENDAR
