BEGIN:VCALENDAR
VERSION:2.0
PRODID:-//petalliesaz.org//NONSGML kigkonsult.se iCalcreator 2.30.10//
CALSCALE:GREGORIAN
METHOD:PUBLISH
UID:5a90f2fc-682b-4ad7-8cca-cbac2dff1fa5
X-WR-CALDESC:
X-WR-RELCALID:e464d2ac7d549d4b8b09d82cd56a71c4
X-WR-TIMEZONE:America/Phoenix
BEGIN:VTIMEZONE
TZID:America/Phoenix
BEGIN:STANDARD
TZNAME:MST
DTSTART:20270415T070000
TZOFFSETFROM:+0000
TZOFFSETTO:-0700
END:STANDARD
END:VTIMEZONE
BEGIN:VEVENT
UID:a0c501cf-6073-45ff-a212-febdbeb03737
DTSTAMP:20260422T162337Z
DESCRIPTION:
DTSTART;TZID=America/Phoenix:20290114T110000
DTEND;TZID=America/Phoenix:20290114T160000
LOCATION:1321 N. 16th St. \, Show Low\, AZ 85901 US
SUMMARY:Shelter Closed
END:VEVENT
END:VCALENDAR
