BEGIN:VCALENDAR
VERSION:2.0
PRODID:-//petalliesaz.org//NONSGML kigkonsult.se iCalcreator 2.30.10//
CALSCALE:GREGORIAN
METHOD:PUBLISH
UID:61760328-4ff4-4b15-adcb-9e5d651471d2
X-WR-CALDESC:
X-WR-RELCALID:aa7a4d7b0f6a3edd725b68feb8e6b708
X-WR-TIMEZONE:America/Phoenix
BEGIN:VTIMEZONE
TZID:America/Phoenix
BEGIN:STANDARD
TZNAME:MST
DTSTART:20270408T070000
TZOFFSETFROM:+0000
TZOFFSETTO:-0700
END:STANDARD
END:VTIMEZONE
BEGIN:VEVENT
UID:62f5445c-1e8d-43fb-b09c-087d47cfc01d
DTSTAMP:20260424T100624Z
DESCRIPTION:
DTSTART;TZID=America/Phoenix:20290107T110000
DTEND;TZID=America/Phoenix:20290107T160000
LOCATION:1321 N. 16th St. \, Show Low\, AZ 85901 US
SUMMARY:Shelter Closed
END:VEVENT
END:VCALENDAR
