BEGIN:VCALENDAR
VERSION:2.0
PRODID:-//petalliesaz.org//NONSGML kigkonsult.se iCalcreator 2.30.10//
CALSCALE:GREGORIAN
METHOD:PUBLISH
UID:81bccb5b-0fdd-4513-9d61-ced8dc13f63b
X-WR-CALDESC:
X-WR-RELCALID:235c1184b5fffaf16fc1b5088d14d13c
X-WR-TIMEZONE:America/Phoenix
BEGIN:VTIMEZONE
TZID:America/Phoenix
BEGIN:STANDARD
TZNAME:MST
DTSTART:20270401T070000
TZOFFSETFROM:+0000
TZOFFSETTO:-0700
END:STANDARD
END:VTIMEZONE
BEGIN:VEVENT
UID:0e1c8045-463a-4a41-bb16-8258386d416f
DTSTAMP:20260422T162954Z
DESCRIPTION:
DTSTART;TZID=America/Phoenix:20281231T110000
DTEND;TZID=America/Phoenix:20281231T160000
LOCATION:1321 N. 16th St. \, Show Low\, AZ 85901 US
SUMMARY:Shelter Closed
END:VEVENT
END:VCALENDAR
