BEGIN:VCALENDAR
VERSION:2.0
PRODID:-//petalliesaz.org//NONSGML kigkonsult.se iCalcreator 2.30.10//
CALSCALE:GREGORIAN
METHOD:PUBLISH
UID:baca9bb3-58b3-46ab-89d0-0cf0aa0e7334
X-WR-CALDESC:
X-WR-RELCALID:5f2672310d480514bd3881b55fe2d912
X-WR-TIMEZONE:America/Phoenix
BEGIN:VTIMEZONE
TZID:America/Phoenix
BEGIN:STANDARD
TZNAME:MST
DTSTART:20270325T070000
TZOFFSETFROM:+0000
TZOFFSETTO:-0700
END:STANDARD
END:VTIMEZONE
BEGIN:VEVENT
UID:7c00c192-f8b8-481c-9a40-8f70c8786aca
DTSTAMP:20260422T163510Z
DESCRIPTION:
DTSTART;TZID=America/Phoenix:20281224T110000
DTEND;TZID=America/Phoenix:20281224T160000
LOCATION:1321 N. 16th St. \, Show Low\, AZ 85901 US
SUMMARY:Shelter Closed
END:VEVENT
END:VCALENDAR
