BEGIN:VCALENDAR
VERSION:2.0
PRODID:-//petalliesaz.org//NONSGML kigkonsult.se iCalcreator 2.30.10//
CALSCALE:GREGORIAN
METHOD:PUBLISH
UID:7a2ae28c-1bee-4f56-8eb9-b7efc14b63f0
X-WR-CALDESC:
X-WR-RELCALID:a9b150ce7a3497d57e10039e2c7596ff
X-WR-TIMEZONE:America/Phoenix
BEGIN:VTIMEZONE
TZID:America/Phoenix
BEGIN:STANDARD
TZNAME:MST
DTSTART:20270318T070000
TZOFFSETFROM:+0000
TZOFFSETTO:-0700
END:STANDARD
END:VTIMEZONE
BEGIN:VEVENT
UID:578cce6e-31b6-4a02-9a29-208aa87951d9
DTSTAMP:20260422T162358Z
DESCRIPTION:
DTSTART;TZID=America/Phoenix:20281217T110000
DTEND;TZID=America/Phoenix:20281217T160000
LOCATION:1321 N. 16th St. \, Show Low\, AZ 85901 US
SUMMARY:Shelter Closed
END:VEVENT
END:VCALENDAR
