BEGIN:VCALENDAR
VERSION:2.0
PRODID:-//petalliesaz.org//NONSGML kigkonsult.se iCalcreator 2.30.10//
CALSCALE:GREGORIAN
METHOD:PUBLISH
UID:02d27571-462f-49bc-881f-45710e1a0c5e
X-WR-CALDESC:
X-WR-RELCALID:3b4e90ae6cba895bc0dfe884eff54f49
X-WR-TIMEZONE:America/Phoenix
BEGIN:VTIMEZONE
TZID:America/Phoenix
BEGIN:STANDARD
TZNAME:MST
DTSTART:20270304T070000
TZOFFSETFROM:+0000
TZOFFSETTO:-0700
END:STANDARD
END:VTIMEZONE
BEGIN:VEVENT
UID:dd8a2c6d-000d-451e-a2ee-409e0a6a5d2e
DTSTAMP:20260424T084412Z
DESCRIPTION:
DTSTART;TZID=America/Phoenix:20281203T110000
DTEND;TZID=America/Phoenix:20281203T160000
LOCATION:1321 N. 16th St. \, Show Low\, AZ 85901 US
SUMMARY:Shelter Closed
END:VEVENT
END:VCALENDAR
