BEGIN:VCALENDAR
VERSION:2.0
PRODID:-//petalliesaz.org//NONSGML kigkonsult.se iCalcreator 2.30.10//
CALSCALE:GREGORIAN
METHOD:PUBLISH
UID:4405321d-c7c2-4eda-b2f7-c58bb684157d
X-WR-CALDESC:
X-WR-RELCALID:4b9887987aefa594e689efb8304f7aa1
X-WR-TIMEZONE:America/Phoenix
BEGIN:VTIMEZONE
TZID:America/Phoenix
BEGIN:STANDARD
TZNAME:MST
DTSTART:20270225T070000
TZOFFSETFROM:+0000
TZOFFSETTO:-0700
END:STANDARD
END:VTIMEZONE
BEGIN:VEVENT
UID:b3a490e9-df72-4e07-a779-d0be367d7a80
DTSTAMP:20260424T083706Z
DESCRIPTION:
DTSTART;TZID=America/Phoenix:20281126T110000
DTEND;TZID=America/Phoenix:20281126T160000
LOCATION:1321 N. 16th St. \, Show Low\, AZ 85901 US
SUMMARY:Shelter Closed
END:VEVENT
END:VCALENDAR
