BEGIN:VCALENDAR
VERSION:2.0
PRODID:-//petalliesaz.org//NONSGML kigkonsult.se iCalcreator 2.30.10//
CALSCALE:GREGORIAN
METHOD:PUBLISH
UID:aad44969-4c64-4f3b-bbb3-9d782950bdb1
X-WR-CALDESC:
X-WR-RELCALID:115190fc013585093f7188e57432545c
X-WR-TIMEZONE:America/Phoenix
BEGIN:VTIMEZONE
TZID:America/Phoenix
BEGIN:STANDARD
TZNAME:MST
DTSTART:20270218T070000
TZOFFSETFROM:+0000
TZOFFSETTO:-0700
END:STANDARD
END:VTIMEZONE
BEGIN:VEVENT
UID:8f8d60b6-e16d-41bb-8671-442d89e7928a
DTSTAMP:20260422T100329Z
DESCRIPTION:
DTSTART;TZID=America/Phoenix:20281119T110000
DTEND;TZID=America/Phoenix:20281119T160000
LOCATION:1321 N. 16th St. \, Show Low\, AZ 85901 US
SUMMARY:Shelter Closed
END:VEVENT
END:VCALENDAR
