BEGIN:VCALENDAR
VERSION:2.0
PRODID:-//petalliesaz.org//NONSGML kigkonsult.se iCalcreator 2.30.10//
CALSCALE:GREGORIAN
METHOD:PUBLISH
UID:9822d3c7-afac-4ee6-a45f-3cd69abf8f54
X-WR-CALDESC:
X-WR-RELCALID:d797e5b062f51949d71a16e9d871cebd
X-WR-TIMEZONE:America/Phoenix
BEGIN:VTIMEZONE
TZID:America/Phoenix
BEGIN:STANDARD
TZNAME:MST
DTSTART:20270211T070000
TZOFFSETFROM:+0000
TZOFFSETTO:-0700
END:STANDARD
END:VTIMEZONE
BEGIN:VEVENT
UID:f33cd969-49c3-4cf7-80ac-6ba9eb3dad02
DTSTAMP:20260420T160458Z
DESCRIPTION:
DTSTART;TZID=America/Phoenix:20281112T110000
DTEND;TZID=America/Phoenix:20281112T160000
LOCATION:1321 N. 16th St. \, Show Low\, AZ 85901 US
SUMMARY:Shelter Closed
END:VEVENT
END:VCALENDAR
