BEGIN:VCALENDAR
VERSION:2.0
PRODID:-//petalliesaz.org//NONSGML kigkonsult.se iCalcreator 2.30.10//
CALSCALE:GREGORIAN
METHOD:PUBLISH
UID:7f3f9318-45b1-43da-8e97-d2df1d0c88b4
X-WR-CALDESC:
X-WR-RELCALID:a613cd9fcbcdca5877b5280a065ab47f
X-WR-TIMEZONE:America/Phoenix
BEGIN:VTIMEZONE
TZID:America/Phoenix
BEGIN:STANDARD
TZNAME:MST
DTSTART:20270204T070000
TZOFFSETFROM:+0000
TZOFFSETTO:-0700
END:STANDARD
END:VTIMEZONE
BEGIN:VEVENT
UID:ac0eb88d-81e1-4bab-9819-8ef338ad79d2
DTSTAMP:20260420T112906Z
DESCRIPTION:
DTSTART;TZID=America/Phoenix:20281105T110000
DTEND;TZID=America/Phoenix:20281105T160000
LOCATION:1321 N. 16th St. \, Show Low\, AZ 85901 US
SUMMARY:Shelter Closed
END:VEVENT
END:VCALENDAR
