BEGIN:VCALENDAR
VERSION:2.0
PRODID:-//petalliesaz.org//NONSGML kigkonsult.se iCalcreator 2.30.10//
CALSCALE:GREGORIAN
METHOD:PUBLISH
UID:266067f1-b147-419f-a12a-b991552d9303
X-WR-CALDESC:
X-WR-RELCALID:76e5f53c6ee49bb692b11bbd64db2f0e
X-WR-TIMEZONE:America/Phoenix
BEGIN:VTIMEZONE
TZID:America/Phoenix
BEGIN:STANDARD
TZNAME:MST
DTSTART:20270128T070000
TZOFFSETFROM:+0000
TZOFFSETTO:-0700
END:STANDARD
END:VTIMEZONE
BEGIN:VEVENT
UID:71d95b8a-8844-4e84-a24a-a8b08d92578e
DTSTAMP:20260420T070956Z
DESCRIPTION:
DTSTART;TZID=America/Phoenix:20281029T110000
DTEND;TZID=America/Phoenix:20281029T160000
LOCATION:1321 N. 16th St. \, Show Low\, AZ 85901 US
SUMMARY:Shelter Closed
END:VEVENT
END:VCALENDAR
