BEGIN:VCALENDAR
VERSION:2.0
PRODID:-//petalliesaz.org//NONSGML kigkonsult.se iCalcreator 2.30.10//
CALSCALE:GREGORIAN
METHOD:PUBLISH
UID:5b2b7f2e-7785-4179-b2c7-02e34f830015
X-WR-CALDESC:
X-WR-RELCALID:e534df8eef549ddddf272208e1f6bcec
X-WR-TIMEZONE:America/Phoenix
BEGIN:VTIMEZONE
TZID:America/Phoenix
BEGIN:STANDARD
TZNAME:MST
DTSTART:20270121T070000
TZOFFSETFROM:+0000
TZOFFSETTO:-0700
END:STANDARD
END:VTIMEZONE
BEGIN:VEVENT
UID:a32fc372-2fae-4982-82b4-79629a2ba592
DTSTAMP:20260420T111435Z
DESCRIPTION:
DTSTART;TZID=America/Phoenix:20281022T110000
DTEND;TZID=America/Phoenix:20281022T160000
LOCATION:1321 N. 16th St. \, Show Low\, AZ 85901 US
SUMMARY:Shelter Closed
END:VEVENT
END:VCALENDAR
