BEGIN:VCALENDAR
VERSION:2.0
PRODID:-//petalliesaz.org//NONSGML kigkonsult.se iCalcreator 2.30.10//
CALSCALE:GREGORIAN
METHOD:PUBLISH
UID:f98d670d-9889-45fd-b54c-ec3f181a53bf
X-WR-CALDESC:
X-WR-RELCALID:cc95b181a4c0d7f775002cbf8af5d56b
X-WR-TIMEZONE:America/Phoenix
BEGIN:VTIMEZONE
TZID:America/Phoenix
BEGIN:STANDARD
TZNAME:MST
DTSTART:20270114T070000
TZOFFSETFROM:+0000
TZOFFSETTO:-0700
END:STANDARD
END:VTIMEZONE
BEGIN:VEVENT
UID:1f82d3ad-354a-4809-8a49-7a42a59298c5
DTSTAMP:20260420T114248Z
DESCRIPTION:
DTSTART;TZID=America/Phoenix:20281015T110000
DTEND;TZID=America/Phoenix:20281015T160000
LOCATION:1321 N. 16th St. \, Show Low\, AZ 85901 US
SUMMARY:Shelter Closed
END:VEVENT
END:VCALENDAR
