BEGIN:VCALENDAR
VERSION:2.0
PRODID:-//petalliesaz.org//NONSGML kigkonsult.se iCalcreator 2.30.10//
CALSCALE:GREGORIAN
METHOD:PUBLISH
UID:251aaa24-c79b-454a-91f8-7b0ea8d49898
X-WR-CALDESC:
X-WR-RELCALID:580c280c8bfe6f15b7e3e41c7eea071f
X-WR-TIMEZONE:America/Phoenix
BEGIN:VTIMEZONE
TZID:America/Phoenix
BEGIN:STANDARD
TZNAME:MST
DTSTART:20270107T070000
TZOFFSETFROM:+0000
TZOFFSETTO:-0700
END:STANDARD
END:VTIMEZONE
BEGIN:VEVENT
UID:daf00998-4b54-41a0-8c70-6d9215748a2b
DTSTAMP:20260420T070948Z
DESCRIPTION:
DTSTART;TZID=America/Phoenix:20281008T110000
DTEND;TZID=America/Phoenix:20281008T160000
LOCATION:1321 N. 16th St. \, Show Low\, AZ 85901 US
SUMMARY:Shelter Closed
END:VEVENT
END:VCALENDAR
