BEGIN:VCALENDAR
VERSION:2.0
PRODID:-//petalliesaz.org//NONSGML kigkonsult.se iCalcreator 2.30.10//
CALSCALE:GREGORIAN
METHOD:PUBLISH
UID:89154a46-2389-41bd-8305-bec9e7156bb1
X-WR-CALDESC:
X-WR-RELCALID:2706a41e3e964d7ee01a15fe59013d50
X-WR-TIMEZONE:America/Phoenix
BEGIN:VTIMEZONE
TZID:America/Phoenix
BEGIN:STANDARD
TZNAME:MST
DTSTART:20261231T070000
TZOFFSETFROM:+0000
TZOFFSETTO:-0700
END:STANDARD
END:VTIMEZONE
BEGIN:VEVENT
UID:560ce4d1-3c58-4bdd-b9c2-a5330939ca64
DTSTAMP:20260420T113547Z
DESCRIPTION:
DTSTART;TZID=America/Phoenix:20281001T110000
DTEND;TZID=America/Phoenix:20281001T160000
LOCATION:1321 N. 16th St. \, Show Low\, AZ 85901 US
SUMMARY:Shelter Closed
END:VEVENT
END:VCALENDAR
