BEGIN:VCALENDAR
VERSION:2.0
PRODID:-//petalliesaz.org//NONSGML kigkonsult.se iCalcreator 2.30.10//
CALSCALE:GREGORIAN
METHOD:PUBLISH
UID:4e2b2066-fe1a-4288-b239-26ef3a557d3b
X-WR-CALDESC:
X-WR-RELCALID:3cd7a3b945da9ac9823a734ba524a2a8
X-WR-TIMEZONE:America/Phoenix
BEGIN:VTIMEZONE
TZID:America/Phoenix
BEGIN:STANDARD
TZNAME:MST
DTSTART:20261224T070000
TZOFFSETFROM:+0000
TZOFFSETTO:-0700
END:STANDARD
END:VTIMEZONE
BEGIN:VEVENT
UID:650331f0-4669-4149-b138-d21600450a15
DTSTAMP:20260420T072242Z
DESCRIPTION:
DTSTART;TZID=America/Phoenix:20280924T110000
DTEND;TZID=America/Phoenix:20280924T160000
LOCATION:1321 N. 16th St. \, Show Low\, AZ 85901 US
SUMMARY:Shelter Closed
END:VEVENT
END:VCALENDAR
