BEGIN:VCALENDAR
VERSION:2.0
PRODID:-//petalliesaz.org//NONSGML kigkonsult.se iCalcreator 2.30.10//
CALSCALE:GREGORIAN
METHOD:PUBLISH
UID:780d3161-6181-4c4f-a28f-004083133d53
X-WR-CALDESC:
X-WR-RELCALID:4fc9778bedfb7eb2713eee0ba5f01063
X-WR-TIMEZONE:America/Phoenix
BEGIN:VTIMEZONE
TZID:America/Phoenix
BEGIN:STANDARD
TZNAME:MST
DTSTART:20261217T070000
TZOFFSETFROM:+0000
TZOFFSETTO:-0700
END:STANDARD
END:VTIMEZONE
BEGIN:VEVENT
UID:4a89df8a-86e0-4cc0-aa15-6bf611c6c810
DTSTAMP:20260420T021338Z
DESCRIPTION:
DTSTART;TZID=America/Phoenix:20280917T110000
DTEND;TZID=America/Phoenix:20280917T160000
LOCATION:1321 N. 16th St. \, Show Low\, AZ 85901 US
SUMMARY:Shelter Closed
END:VEVENT
END:VCALENDAR
