BEGIN:VCALENDAR
VERSION:2.0
PRODID:-//petalliesaz.org//NONSGML kigkonsult.se iCalcreator 2.30.10//
CALSCALE:GREGORIAN
METHOD:PUBLISH
UID:f518fd03-9f42-4dab-b2ab-663d7a4226bd
X-WR-CALDESC:
X-WR-RELCALID:2a4395cbef5e40720a97d6c28bc93ac0
X-WR-TIMEZONE:America/Phoenix
BEGIN:VTIMEZONE
TZID:America/Phoenix
BEGIN:STANDARD
TZNAME:MST
DTSTART:20261210T070000
TZOFFSETFROM:+0000
TZOFFSETTO:-0700
END:STANDARD
END:VTIMEZONE
BEGIN:VEVENT
UID:181d545c-27a8-483f-8c4c-e39cd2aeeba7
DTSTAMP:20260420T065555Z
DESCRIPTION:
DTSTART;TZID=America/Phoenix:20280910T110000
DTEND;TZID=America/Phoenix:20280910T160000
LOCATION:1321 N. 16th St. \, Show Low\, AZ 85901 US
SUMMARY:Shelter Closed
END:VEVENT
END:VCALENDAR
