BEGIN:VCALENDAR
VERSION:2.0
PRODID:-//petalliesaz.org//NONSGML kigkonsult.se iCalcreator 2.30.10//
CALSCALE:GREGORIAN
METHOD:PUBLISH
UID:39edf40e-db91-4da9-81da-ef31002c2812
X-WR-CALDESC:
X-WR-RELCALID:e47de88964b9a548c1074ea414ec1d7f
X-WR-TIMEZONE:America/Phoenix
BEGIN:VTIMEZONE
TZID:America/Phoenix
BEGIN:STANDARD
TZNAME:MST
DTSTART:20261203T070000
TZOFFSETFROM:+0000
TZOFFSETTO:-0700
END:STANDARD
END:VTIMEZONE
BEGIN:VEVENT
UID:9ee380b0-0f32-4175-8451-eabcb0135c37
DTSTAMP:20260424T083613Z
DESCRIPTION:
DTSTART;TZID=America/Phoenix:20280903T110000
DTEND;TZID=America/Phoenix:20280903T160000
LOCATION:1321 N. 16th St. \, Show Low\, AZ 85901 US
SUMMARY:Shelter Closed
END:VEVENT
END:VCALENDAR
