BEGIN:VCALENDAR
VERSION:2.0
PRODID:-//petalliesaz.org//NONSGML kigkonsult.se iCalcreator 2.30.10//
CALSCALE:GREGORIAN
METHOD:PUBLISH
UID:28c3d9a1-cb29-4d49-8b35-213fd0875f48
X-WR-CALDESC:
X-WR-RELCALID:02d995cc687413224c55eaafab2ba037
X-WR-TIMEZONE:America/Phoenix
BEGIN:VTIMEZONE
TZID:America/Phoenix
BEGIN:STANDARD
TZNAME:MST
DTSTART:20261126T070000
TZOFFSETFROM:+0000
TZOFFSETTO:-0700
END:STANDARD
END:VTIMEZONE
BEGIN:VEVENT
UID:4c9115c1-b987-4ecd-9af6-87bc8564dcfb
DTSTAMP:20260419T215802Z
DESCRIPTION:
DTSTART;TZID=America/Phoenix:20280827T110000
DTEND;TZID=America/Phoenix:20280827T160000
LOCATION:1321 N. 16th St. \, Show Low\, AZ 85901 US
SUMMARY:Shelter Closed
END:VEVENT
END:VCALENDAR
