BEGIN:VCALENDAR
VERSION:2.0
PRODID:-//petalliesaz.org//NONSGML kigkonsult.se iCalcreator 2.30.10//
CALSCALE:GREGORIAN
METHOD:PUBLISH
UID:ec7f170a-79e9-4b15-a6cc-3c8502fcc351
X-WR-CALDESC:
X-WR-RELCALID:a7585718f882b73c3c08318aa1762c70
X-WR-TIMEZONE:America/Phoenix
BEGIN:VTIMEZONE
TZID:America/Phoenix
BEGIN:STANDARD
TZNAME:MST
DTSTART:20261119T070000
TZOFFSETFROM:+0000
TZOFFSETTO:-0700
END:STANDARD
END:VTIMEZONE
BEGIN:VEVENT
UID:134d6dd8-00c0-4ef2-b76c-280059737bcd
DTSTAMP:20260420T065240Z
DESCRIPTION:
DTSTART;TZID=America/Phoenix:20280820T110000
DTEND;TZID=America/Phoenix:20280820T160000
LOCATION:1321 N. 16th St. \, Show Low\, AZ 85901 US
SUMMARY:Shelter Closed
END:VEVENT
END:VCALENDAR
