BEGIN:VCALENDAR
VERSION:2.0
PRODID:-//petalliesaz.org//NONSGML kigkonsult.se iCalcreator 2.30.10//
CALSCALE:GREGORIAN
METHOD:PUBLISH
UID:05b44fda-4da2-4a86-a4b7-ab95985095b5
X-WR-CALDESC:
X-WR-RELCALID:df75b60530368ead48b94e5f473489df
X-WR-TIMEZONE:America/Phoenix
BEGIN:VTIMEZONE
TZID:America/Phoenix
BEGIN:STANDARD
TZNAME:MST
DTSTART:20261112T070000
TZOFFSETFROM:+0000
TZOFFSETTO:-0700
END:STANDARD
END:VTIMEZONE
BEGIN:VEVENT
UID:503b432e-7185-40c2-8d5f-1c516ef301bf
DTSTAMP:20260420T015418Z
DESCRIPTION:
DTSTART;TZID=America/Phoenix:20280813T110000
DTEND;TZID=America/Phoenix:20280813T160000
LOCATION:1321 N. 16th St. \, Show Low\, AZ 85901 US
SUMMARY:Shelter Closed
END:VEVENT
END:VCALENDAR
