BEGIN:VCALENDAR
VERSION:2.0
PRODID:-//petalliesaz.org//NONSGML kigkonsult.se iCalcreator 2.30.10//
CALSCALE:GREGORIAN
METHOD:PUBLISH
UID:7d228bc9-035b-4a24-9ce9-bee33e5aac0c
X-WR-CALDESC:
X-WR-RELCALID:6c026a54b2d9fbf79c4db86cbe9c8967
X-WR-TIMEZONE:America/Phoenix
BEGIN:VTIMEZONE
TZID:America/Phoenix
BEGIN:STANDARD
TZNAME:MST
DTSTART:20261105T070000
TZOFFSETFROM:+0000
TZOFFSETTO:-0700
END:STANDARD
END:VTIMEZONE
BEGIN:VEVENT
UID:d701df09-69a4-4aa1-8882-748e9ba417bc
DTSTAMP:20260420T072434Z
DESCRIPTION:
DTSTART;TZID=America/Phoenix:20280806T110000
DTEND;TZID=America/Phoenix:20280806T160000
LOCATION:1321 N. 16th St. \, Show Low\, AZ 85901 US
SUMMARY:Shelter Closed
END:VEVENT
END:VCALENDAR
