BEGIN:VCALENDAR
VERSION:2.0
PRODID:-//petalliesaz.org//NONSGML kigkonsult.se iCalcreator 2.30.10//
CALSCALE:GREGORIAN
METHOD:PUBLISH
UID:ec4e95a7-bf95-406b-b878-66f888121581
X-WR-CALDESC:
X-WR-RELCALID:ee44433f43127959470fa7f69f5a06b6
X-WR-TIMEZONE:America/Phoenix
BEGIN:VTIMEZONE
TZID:America/Phoenix
BEGIN:STANDARD
TZNAME:MST
DTSTART:20261029T070000
TZOFFSETFROM:+0000
TZOFFSETTO:-0700
END:STANDARD
END:VTIMEZONE
BEGIN:VEVENT
UID:d70cdd25-2354-45d1-8d63-a8aa0e8d951c
DTSTAMP:20260419T122822Z
DESCRIPTION:
DTSTART;TZID=America/Phoenix:20280730T110000
DTEND;TZID=America/Phoenix:20280730T160000
LOCATION:1321 N. 16th St. \, Show Low\, AZ 85901 US
SUMMARY:Shelter Closed
END:VEVENT
END:VCALENDAR
