BEGIN:VCALENDAR
VERSION:2.0
PRODID:-//petalliesaz.org//NONSGML kigkonsult.se iCalcreator 2.30.10//
CALSCALE:GREGORIAN
METHOD:PUBLISH
UID:56121129-69a4-4fb7-b5ea-a6d8a687d957
X-WR-CALDESC:
X-WR-RELCALID:56b70e14ca374de597ff89c5a97df153
X-WR-TIMEZONE:America/Phoenix
BEGIN:VTIMEZONE
TZID:America/Phoenix
BEGIN:STANDARD
TZNAME:MST
DTSTART:20261015T070000
TZOFFSETFROM:+0000
TZOFFSETTO:-0700
END:STANDARD
END:VTIMEZONE
BEGIN:VEVENT
UID:aa948e33-794f-4901-8b39-195f7d89c697
DTSTAMP:20260419T122007Z
DESCRIPTION:
DTSTART;TZID=America/Phoenix:20280716T110000
DTEND;TZID=America/Phoenix:20280716T160000
LOCATION:1321 N. 16th St. \, Show Low\, AZ 85901 US
SUMMARY:Shelter Closed
END:VEVENT
END:VCALENDAR
