BEGIN:VCALENDAR
VERSION:2.0
PRODID:-//petalliesaz.org//NONSGML kigkonsult.se iCalcreator 2.30.10//
CALSCALE:GREGORIAN
METHOD:PUBLISH
UID:d7926100-7e9b-405b-b7f3-8535b0b8b39f
X-WR-CALDESC:
X-WR-RELCALID:4cb9d58e0f85caebe15f655e14792e20
X-WR-TIMEZONE:America/Phoenix
BEGIN:VTIMEZONE
TZID:America/Phoenix
BEGIN:STANDARD
TZNAME:MST
DTSTART:20261001T070000
TZOFFSETFROM:+0000
TZOFFSETTO:-0700
END:STANDARD
END:VTIMEZONE
BEGIN:VEVENT
UID:26c1a331-3489-4415-8b16-3c543cff5786
DTSTAMP:20260419T115538Z
DESCRIPTION:
DTSTART;TZID=America/Phoenix:20280702T110000
DTEND;TZID=America/Phoenix:20280702T160000
LOCATION:1321 N. 16th St. \, Show Low\, AZ 85901 US
SUMMARY:Shelter Closed
END:VEVENT
END:VCALENDAR
