BEGIN:VCALENDAR
VERSION:2.0
PRODID:-//petalliesaz.org//NONSGML kigkonsult.se iCalcreator 2.30.10//
CALSCALE:GREGORIAN
METHOD:PUBLISH
UID:6b467e6c-f952-4f72-81a8-0f1288a830c8
X-WR-CALDESC:
X-WR-RELCALID:d5923d79c445ce55d4fcae568b2961fa
X-WR-TIMEZONE:America/Phoenix
BEGIN:VTIMEZONE
TZID:America/Phoenix
BEGIN:STANDARD
TZNAME:MST
DTSTART:20260806T070000
TZOFFSETFROM:+0000
TZOFFSETTO:-0700
END:STANDARD
END:VTIMEZONE
BEGIN:VEVENT
UID:b9a805d8-cd55-44b1-a148-0f581cf2a9e8
DTSTAMP:20260419T153112Z
DESCRIPTION:
DTSTART;TZID=America/Phoenix:20280507T110000
DTEND;TZID=America/Phoenix:20280507T160000
LOCATION:1321 N. 16th St. \, Show Low\, AZ 85901 US
SUMMARY:Shelter Closed
END:VEVENT
END:VCALENDAR
