BEGIN:VCALENDAR
VERSION:2.0
PRODID:-//petalliesaz.org//NONSGML kigkonsult.se iCalcreator 2.30.10//
CALSCALE:GREGORIAN
METHOD:PUBLISH
UID:6b85084f-81d8-4675-97eb-a100bd59c0bb
X-WR-CALDESC:
X-WR-RELCALID:bd3b3fca227e3201a5558724a8f45665
X-WR-TIMEZONE:America/Phoenix
BEGIN:VTIMEZONE
TZID:America/Phoenix
BEGIN:STANDARD
TZNAME:MST
DTSTART:20240725T070000
TZOFFSETFROM:+0000
TZOFFSETTO:-0700
END:STANDARD
END:VTIMEZONE
BEGIN:VEVENT
UID:5d9c632f-7267-4d60-a060-ebfd033579bf
DTSTAMP:20260424T084858Z
DESCRIPTION:
DTSTART;TZID=America/Phoenix:20260426T110000
DTEND;TZID=America/Phoenix:20260426T160000
LOCATION:1321 N. 16th St. \, Show Low\, AZ 85901 US
SUMMARY:Shelter Closed
END:VEVENT
END:VCALENDAR
