BEGIN:VCALENDAR
VERSION:2.0
PRODID:-//petalliesaz.org//NONSGML kigkonsult.se iCalcreator 2.30.10//
CALSCALE:GREGORIAN
METHOD:PUBLISH
UID:79f8408f-fcf6-4f34-afed-86a70589ed58
X-WR-CALDESC:
X-WR-RELCALID:fe5f9e37a0477b0a3fdd9cd771a89209
X-WR-TIMEZONE:America/Phoenix
BEGIN:VTIMEZONE
TZID:America/Phoenix
BEGIN:STANDARD
TZNAME:MST
DTSTART:20230922T070000
TZOFFSETFROM:+0000
TZOFFSETTO:-0700
END:STANDARD
END:VTIMEZONE
BEGIN:VEVENT
UID:0a4b5801-8f34-4d09-b5e6-10ee86335916
DTSTAMP:20260419T170715Z
DESCRIPTION:
DTSTART;TZID=America/Phoenix:20250623T140000
DTEND;TZID=America/Phoenix:20250623T160000
LOCATION:
SUMMARY:PET FOOD PANTRY
END:VEVENT
END:VCALENDAR
