BEGIN:VCALENDAR
VERSION:2.0
PRODID:-//petalliesaz.org//NONSGML kigkonsult.se iCalcreator 2.30.10//
CALSCALE:GREGORIAN
METHOD:PUBLISH
UID:9b3c8631-ac13-4751-b607-da28652c5380
X-WR-CALDESC:
X-WR-RELCALID:1dcf73b52624b2d438d0d6cd7e5061ec
X-WR-TIMEZONE:America/Phoenix
BEGIN:VTIMEZONE
TZID:America/Phoenix
BEGIN:STANDARD
TZNAME:MST
DTSTART:20221109T070000
TZOFFSETFROM:+0000
TZOFFSETTO:-0700
END:STANDARD
END:VTIMEZONE
BEGIN:VEVENT
UID:61a90815-1d47-4d95-b18d-ed1457d154d4
DTSTAMP:20260420T113903Z
DESCRIPTION:
DTSTART;TZID=America/Phoenix:20240810T090000
DTEND;TZID=America/Phoenix:20240810T120000
LOCATION:1321 N. 16th St.\, Show Low\, AL 85901 US
SUMMARY:Vaccine Clinic
END:VEVENT
END:VCALENDAR
