BEGIN:VCALENDAR
VERSION:2.0
PRODID:-//petalliesaz.org//NONSGML kigkonsult.se iCalcreator 2.30.10//
CALSCALE:GREGORIAN
METHOD:PUBLISH
UID:ab2da28a-6ec8-4efb-866a-fe7986567b9e
X-WR-CALDESC:Welcome Dr. Ponder on his first day at the Pet Allies clinic! 
  Appointments available now\; please contact the clinic at 928.532.1602 on
  Monday-Wednesday\, 8:00 a.m.-11:00 a.m.
X-WR-RELCALID:c56c5237ce95cc8a5286228eb0522427
X-WR-TIMEZONE:America/Los_Angeles
BEGIN:VTIMEZONE
TZID:America/Los_Angeles
BEGIN:STANDARD
TZNAME:PST
DTSTART:20211107T020000
TZOFFSETFROM:-0700
TZOFFSETTO:-0800
RDATE:20221106T020000
END:STANDARD
BEGIN:DAYLIGHT
TZNAME:PDT
DTSTART:20210314T020000
TZOFFSETFROM:-0800
TZOFFSETTO:-0700
RDATE:20220313T020000
RDATE:20230312T020000
END:DAYLIGHT
END:VTIMEZONE
BEGIN:VEVENT
UID:fe24ea94-88a9-4961-928c-a3bb088aa54f
DTSTAMP:20260424T001905Z
DESCRIPTION:Welcome Dr. Ponder on his first day at the Pet Allies clinic!  
 Appointments available now\; please contact the clinic at 928.532.1602 on 
 Monday-Wednesday\, 8:00 a.m.-11:00 a.m.
DTSTART;TZID=America/Los_Angeles:20211221T070000
DTEND;TZID=America/Los_Angeles:20211221T150000
LOCATION:4050 S. White Mountain Rd.\, Show Low\, AZ 85901 US
SUMMARY:Clinic Wellness Day
END:VEVENT
END:VCALENDAR
